BEGIN:VCALENDAR
VERSION:2.0
PRODID:-//Enough! - ECPv6.15.20//NONSGML v1.0//EN
CALSCALE:GREGORIAN
METHOD:PUBLISH
X-ORIGINAL-URL:https://enoughgenug.org
X-WR-CALDESC:Events for Enough!
REFRESH-INTERVAL;VALUE=DURATION:PT1H
X-Robots-Tag:noindex
X-PUBLISHED-TTL:PT1H
BEGIN:VTIMEZONE
TZID:Europe/Paris
BEGIN:DAYLIGHT
TZOFFSETFROM:+0100
TZOFFSETTO:+0200
TZNAME:CEST
DTSTART:20250330T010000
END:DAYLIGHT
BEGIN:STANDARD
TZOFFSETFROM:+0200
TZOFFSETTO:+0100
TZNAME:CET
DTSTART:20251026T010000
END:STANDARD
BEGIN:DAYLIGHT
TZOFFSETFROM:+0100
TZOFFSETTO:+0200
TZNAME:CEST
DTSTART:20260329T010000
END:DAYLIGHT
BEGIN:STANDARD
TZOFFSETFROM:+0200
TZOFFSETTO:+0100
TZNAME:CET
DTSTART:20261025T010000
END:STANDARD
BEGIN:DAYLIGHT
TZOFFSETFROM:+0100
TZOFFSETTO:+0200
TZNAME:CEST
DTSTART:20270328T010000
END:DAYLIGHT
BEGIN:STANDARD
TZOFFSETFROM:+0200
TZOFFSETTO:+0100
TZNAME:CET
DTSTART:20271031T010000
END:STANDARD
END:VTIMEZONE
BEGIN:VEVENT
DTSTART;TZID=Europe/Paris:20260309T100000
DTEND;TZID=Europe/Paris:20260309T110000
DTSTAMP:20260422T110540
CREATED:20260213T084726Z
LAST-MODIFIED:20260213T084726Z
UID:10000043-1773050400-1773054000@enoughgenug.org
SUMMARY:Flag raising and potluck buffet: Invitation to the Women*/FLINTA* General Assembly at Alice Salomon Hochschule
DESCRIPTION:Enough is enough! A global women* strike is being called for March 9\, because “these threatening times call for a more powerful tool than petitions and patient demonstrations. That is why we are putting down our paid and unpaid work and calling for diverse forms of protest and action. Everyone according to their means.” – according to the organizers of the “Enough Genug” alliance. \nWe at ASH would also like to participate and come together on International Women’s Day to hold our Women*/FLINTA* VV\, for which all participants are to be released from work for 2 hours in accordance with the State Equality Act. We want to symbolically stop work together to draw attention to the ever-challenging social situation for women*/FLINTA*. \nTherefore\, as is already a good and very important tradition these days\, we will meet at 10 a.m. in front of the university to raise the flag together. Afterwards\, we invite all university members affected by sexism to a FLINTA* potluck breakfast in the foyer: Everyone brings a little something for the buffet\, and we take the time and space to talk about the institution from a gender perspective\, about workload\, pay equity\, and anything else that comes to mind. \nAfterwards\, everyone is cordially invited to travel together to the Berlin strike action at the Brandenburg Gate. \n\n\n	Related
URL:https://enoughgenug.org/event/flag-raising-and-potluck-buffet-invitation-to-the-women-flinta-general-assembly-at-alice-salomon-hochschule/
LOCATION:Alice Salomon Platz 5\, Alice Salomon Platz 5\, Berlin\, 12627\, Germany
CATEGORIES:Berlin
ATTACH;FMTTYPE=image/jpeg:https://enoughgenug.org/wp-content/uploads/2026/02/Frauenbeauftragte_Profil-5191d2680e1ee62376d41940fdd51273.jpg
GEO:52.5375673;13.6063203
X-APPLE-STRUCTURED-LOCATION;VALUE=URI;X-ADDRESS=Alice Salomon Platz 5 Alice Salomon Platz 5 Berlin 12627 Germany;X-APPLE-RADIUS=500;X-TITLE=Alice Salomon Platz 5:geo:13.6063203,52.5375673
END:VEVENT
END:VCALENDAR